BEGIN:VCALENDAR
VERSION:2.0
PRODID:-//Eleutheria Community - ECPv6.15.20//NONSGML v1.0//EN
CALSCALE:GREGORIAN
METHOD:PUBLISH
X-WR-CALNAME:Eleutheria Community
X-ORIGINAL-URL:https://eleutheria-community.com
X-WR-CALDESC:Events for Eleutheria Community
REFRESH-INTERVAL;VALUE=DURATION:PT1H
X-Robots-Tag:noindex
X-PUBLISHED-TTL:PT1H
BEGIN:VTIMEZONE
TZID:UTC
BEGIN:STANDARD
TZOFFSETFROM:+0000
TZOFFSETTO:+0000
TZNAME:UTC
DTSTART:20220101T000000
END:STANDARD
END:VTIMEZONE
BEGIN:VEVENT
DTSTART;TZID=UTC:20230108T110000
DTEND;TZID=UTC:20230108T130000
DTSTAMP:20260423T194519
CREATED:20230103T115005Z
LAST-MODIFIED:20230103T115005Z
UID:4062-1673175600-1673182800@eleutheria-community.com
SUMMARY:Sunday Service
DESCRIPTION:We have our regular church service every Sunday at 11am. \nWe run our church and our house (we gave our house to be church) as the Bible exemplifies and we aim to follow the clear guidelines that the Word of God leaves us. \nIf you are in Dubai and looking for a more intimate fellowship with God why not join us?
URL:https://eleutheria-community.com/event/sunday-service/
LOCATION:Eleutheria House
CATEGORIES:Bible study,Church,Fellowship,Worship & Prayer
END:VEVENT
END:VCALENDAR